
BEGIN:VCALENDAR
VERSION:2.0
PRODID:-//wp-events-plugin.com//7.2.3.1//EN
BEGIN:VEVENT
UID:222@analdex.org
DTSTART:20220908T073000Z
DTEND:20220909T173000Z
DTSTAMP:20220714T190402Z
URL:https://analdex.org/events/xxxiv-congreso-nacional-de-exportadores/
SUMMARY:XXXIV CONGRESO NACIONAL DE EXPORTADORES
DESCRIPTION:XXXIV Congreso Nacional de Exportadores\n\nSeptiembre 8 y 9 de 
 2022 - Medellín Hotel Intercontinental\n\nEjes temáticos:\n\n 	Coyuntura
  económica y tendencias del comercio exterior en Colombia  \n\n\n\n 	An
 álisis\, retos y crecimiento económico en un ambiente de incertidumbre 
 y Volatilidad\n\n\n\n\n 	Economía digital y transformación productiva 
                                      
  \n\n\n\n\n 	Instrumentos de promoción\, cadenas regionales de valor y r
 elocalización de empresas (Nearshoring)  \n\n\n\n 	Los retos del futuro:
  Economía circular y sustentabilidad\n\n\n\n 	Agenda empresarial del co
 mercio exterior 2022-2026 de cara al nuevo gobierno\n\nVINCULESE COMERCI
 ALMENTE\n\nINCRÍBASE AQUÍ \n\nMAYORES INFORMES:\n\nDiana Márquez\n\n 	
 (601) 7942122 Ext.115\n 	311 4403565\n 	dmarquez@analdex.org\n\n
ATTACH;FMTTYPE=image/jpeg:https://analdex.org/wp-content/uploads/2022/07/B
 anner-pequeno-proximo-evento-fecha.jpg
CATEGORIES:Medellin
END:VEVENT
END:VCALENDAR