
BEGIN:VCALENDAR
VERSION:2.0
PRODID:-//wp-events-plugin.com//7.2.3.1//EN
BEGIN:VEVENT
UID:218@analdex.org
DTSTART:20220714T083000Z
DTEND:20220714T163000Z
DTSTAMP:20220624T145028Z
URL:https://analdex.org/events/xii-foro-nacional-de-importadores/
SUMMARY:XII FORO NACIONAL DE IMPORTADORES
DESCRIPTION:XII Foro Nacional de Importadores\n\nMedellín 14 de julio\, Co
 untry Club de ejecutivos\n\nEjes temáticos:\n\n 	Modernización aduanera\
 n 	Consumo y efectos del nuevo gobierno\n 	Inexistencia de la liberación 
 económica\n 	Mejoras regulatorias e impacto normativo\n 	Mega tendencias 
 del comercio exterior\n\n\n\n\n\n\n\n\n\nConferencistas:\n\n\n 	Javier Dí
 az Molina - Presidente Ejecutivo Analdex\n 	Ingrid Magnolia Díaz - Direct
 ora de Gestión de Aduanas DIAN\n 	Camilo Herrera - Presidente RADDAR CKG\
 n 	Juan Jose Echaverria - Investigador Asociado Fedesarrollo\n 	Ricardo L
 ópez - Socio Araujo Ibarra\n 	Nicolás Rincón - Director Asuntos Económ
 icos Analdex\n 	Diego Rengifo - Vicepresidente Técnico Analdex\n 	Silvia 
 Paula González - Socia González Anzola Abogados\n 	Carolina Salamanca - 
 Directora Imetrica\n 	María Paula Sánchez - Directora de Aduanas y Comer
 cio Internacional Posse Herrera Ruiz\n 	Juan Diego Cano - Director Asuntos
  Legales Analdex\n\nAGENDA ACADÉMICA \n\nINSCRIPCIONES\n\nLANDING PAGE 
 \n\nMayores Informes:\nEmail de Inscripciones: analdexantioquia@analdex.or
 g\nVinculación Comercial: analdexantioquia@analdex.org - dmarquez@analdex
 .org\nTeléfono: 604-7942122 Ext. 170\n\n\n\n
ATTACH;FMTTYPE=image/jpeg:https://analdex.org/wp-content/uploads/2022/06/B
 anner_proximo-evento_fni-Medellin.jpg
CATEGORIES:Medellin
END:VEVENT
END:VCALENDAR