
BEGIN:VCALENDAR
VERSION:2.0
PRODID:-//wp-events-plugin.com//7.2.3.1//EN
BEGIN:VEVENT
UID:217@analdex.org
DTSTART:20220615T073000Z
DTEND:20220615T153000Z
DTSTAMP:20220606T160037Z
URL:https://analdex.org/events/xi-foro-regional-impo-expo-2022/
SUMMARY:XI FORO REGIONAL IMPO - EXPO 2022
DESCRIPTION:XI Foro Regional impo - expo 2022: Contribuyendo al desarrollo 
 del comercio exterior y la internalización económica del suroccidente co
 lombiano\n\nCali junio 15 - Hotel Intercontinental\n\nEVENTO EXCLUSIVO PRE
 SENCIAL\n\nEjes temáticos:\n\n 	\nOutlook Comex: Vistazo general de la ev
 olución de comercio exterior\, nuevos tratados\, CAN y oportunidades regi
 onales. Avances del nearshoring e inversión extranjera. \n\n 	\nLogísti
 ca Comex: Situación actual del transporte marítimo\, perspectiva del val
 or de los fletes\, panorama para el segundo semestre 2022\, transporte aé
 reo y terrestre.\n\n 	\nCompetitividad Regional: Actualización del avance
  de los principales proyectos y cuál será el impacto en las empresas.\n\
 n 	\nPanorama Económico: Qué escenarios se prevén a 4 días de la segun
 da vuelta presidencia.\n\n 	\nAccesibilidad vial de la Región: Análisis 
 de la infraestructura vial de la región suroccidente del país.\n\n 	\nEs
 tado de las navieras y puertos marítimos en el Comex colombiano: Panorama
  de los puertos\, navieras y de más factores que influyen en el transport
 e marítimo.\n\n\nConferencistas:\n\n\n\n\n 	Javier Díaz Molina - Preside
 nte Ejecutivo Analdex\n 	Diego Rengifo - Vicepresidente Técnico Analdex\n
  	Erwin Blanco Nagle - Socio-  Blanco de Castro Abogados\n 	Fernando Artu
 ro Aulestia - Gerente Comercial y de Servicio al cliente - Sociedad Portua
 ria Buenaventura\n 	Henry Cubides - Directo Comercial Coltanques\n 	Ricard
 o Lenis - Gerente de Aerocali\n 	Carlos Espindola - Socio Espindola I-C\n 
 	Nicolás Rincón - Director Asuntos Económicos Analdex\n 	Olga Lucía Ra
 mírez - Viceministra de Infraestructura Ministerio de Transporte de Colom
 bia\n\n\nTarifas de inscripción:\n\n 	VALOR INSCRIPCIONES INDIVIDUALES $2
 50.000 + IVA\n 	VALOR INSCRIPCIONES INDIVIDUALES AFILIADOS $180.000 + IVA\
 n\nINSCRÍBASE AQUÍ \n\nLANDING PAGE \n\nAGENDA ACADÉMICA \n\nMAYORES
  INFORMES: Juan David Castaño - analdexcali@analdex.org - Teléfono: 601
  7942122 Ext. 180\n\n&nbsp\;\n\n\n\n
ATTACH;FMTTYPE=image/jpeg:https://analdex.org/wp-content/uploads/2022/06/B
 anner_proximo-evento_impo_expo_cali.jpg
CATEGORIES:Calí
END:VEVENT
END:VCALENDAR