
BEGIN:VCALENDAR
VERSION:2.0
PRODID:-//wp-events-plugin.com//7.2.3.1//EN
BEGIN:VEVENT
UID:216@analdex.org
DTSTART:20220608T073000Z
DTEND:20220608T160000Z
DTSTAMP:20220606T154148Z
URL:https://analdex.org/events/xi-encuentro-portuario-e-industrial-del-car
 ibe/
SUMMARY:XI ENCUENTRO PORTUARIO E INDUSTRIAL DEL CARIBE
DESCRIPTION:XI Encuentro Portuario e Industrial del Caribe: Impulsando el p
 rogreso regional desde la perspectiva del comercio exterior\n\nHotel Barra
 nquilla Plaza - 8 de junio 2022\n\nEVENTO EXCLUSIVO PRESENCIAL\n\nEjes tem
 áticos:\n\n 	Economía regional\, internacional\, infraestructura portuar
 ia\, servicios\, crisis marítima y el impacto en el comercio interacciona
 l serán los temas que se debatirán en el encuentro.\n 	 Más de 120 rep
 resentantes de empresas regionales nos acompañarán para seguir impulsand
 o el comercio el comercio exterior de la región del Caribe.\n\nConferenci
 stas:\n\n 	Javier Díaz Molina - Presidente ejecutivo Analdex\n 	Claudia P
 atricia Marín - Subdirectora de servicios y facilitación al comercio ext
 erior DIAN\n 	Lucas Ariza Buitrago - Director ejecutivo Asoportuaria\n 	Pe
 dro Pablo Jurado - Director ejecutivo Cormagdalena\n 	Carmen Ligia Valderr
 ama - Ministra Ministerio TIC\n 	Ricardo Román Herazo - Gerente general S
 ociedad Portuaria Palermo Coremar\n 	José Daniel Martínez - Socio Russel
  Bedford USA\n 	Diego Rengifo -  Vicepresidente técnico Analdex\n 	Jairo
  Parada Corrales - Economista phD\n 	Jonathan David Bernal - Director - Di
 rección de infraestructura y energía sostenible\n 	Carmena Ivonne Gómez
  - Directora Comercio exterior - Ministerio de Comercio Industria y Turism
 o\n 	Luis Eduardo Blanco - Gerente regional Caribe Analdex\n 	Erwin de Jes
 ús Blanco - Socio - Blanco de Castro Abogados y Asociados\n 	Víctor Alfr
 edo Tarra - Gerente de técnicas aduaneras -  Asercol S.A.\n 	Nicolás Ri
 ncón - Director de asuntos económicos Analdex\n\nINSCRÍBASE AQUÍ \n\n
 LANDING PAGE \n\nAGENDA ACADÉMICA \n\nMAYORES INFORMES: Julieth Sierra 
 - analdexcaribe@analdex.org - 3185287992
ATTACH;FMTTYPE=image/jpeg:https://analdex.org/wp-content/uploads/2022/06/B
 anner_proximo-evento_Encuentro-portuario.jpg
CATEGORIES:Barranquilla
END:VEVENT
END:VCALENDAR