
BEGIN:VCALENDAR
VERSION:2.0
PRODID:-//wp-events-plugin.com//7.2.3.1//EN
BEGIN:VEVENT
UID:215@analdex.org
DTSTART:20220610T090000Z
DTEND:20220610T090000Z
DTSTAMP:20220602T213714Z
URL:https://analdex.org/events/webinar-gestion-coordinada-en-fronteras/
SUMMARY:WEBINAR GESTIÓN COORDINADA EN FRONTERAS
DESCRIPTION:Webinar Gestión Coordinada en Fronteras\n\nViernes 10 de junio
  9:00 a.m. - Evento sin costo - VÍA ZOOM\n\nEjes temáticos:\n\n 	Como tr
 abajar para evitar los dobles controles en fronteras y buscar la eficienci
 a de las autoridades.\n 	El uso de la tecnología e información en la ges
 tión coordinada de fronteras.\n 	Facilitación\, cooperación y aprovecha
 miento de acuerdos.\n 	La importancia del OEA y el marco SAFE en la gesti
 ón coordinada de fronteras.\n 	Fortalecimiento de la cadena\, incentivos 
 y promoción del OEA.\n 	Gobernanza e institucionalidad en fronteras.\n 	I
 ntegración de las autoridades de control y la facilitación al comercio e
 n frontera.\n 	Identificación de algunas acciones actuales destinadas a l
 a coordinación en frontera.\n\nConferencistas:\n\n 	Ernai Checcucci - Esp
 ecialista Senior en facilitación del Comercio Grupo Banco Mundial\n 	John
  Mein - Coordinador ejecutivo Procomex\n 	Rafael García - Exsuperintenden
 te Nacional Adjunto de Aduanas del Perú\n 	Enrique Canon - Cofundador del
  OAR Expresidente del consejo del OMA - Uruguay\n\nINSCÍRBASE AQUI \n\nM
 AYORES INFORMES: expoeventos@analdex.org
ATTACH;FMTTYPE=image/jpeg:https://analdex.org/wp-content/uploads/2022/06/B
 anner_proximo-evento_oar-1.jpg
CATEGORIES:virtual
END:VEVENT
END:VCALENDAR