
BEGIN:VCALENDAR
VERSION:2.0
PRODID:-//wp-events-plugin.com//7.2.3.1//EN
BEGIN:VEVENT
UID:234@analdex.org
DTSTART:20221130T140000Z
DTEND:20221130T150000Z
DTSTAMP:20221101T152849Z
URL:https://analdex.org/events/webinar-balance-de-los-primeros-meses-del-g
 obierno-petro/
SUMMARY:Webinar: Balance de los primeros meses del Gobierno Petro.
DESCRIPTION:Webinar: Balance de los primeros meses del Gobierno Petro.\n\nI
 NSCRÍBASE AQUÍ\n\nCharla dictada por Javier Díaz Molina - Presidente de
  Analdex\n\nMiércoles 30 de noviembre 09:00 a.m. a 10:00 a.m\n\nVía zoom
 \n\nOrganiza: Compas y Analdex
ATTACH;FMTTYPE=image/jpeg:https://analdex.org/wp-content/uploads/2022/11/P
 ieza-eventos-Analdex-Compas-scaled.jpg
CATEGORIES:Bogotá
END:VEVENT
END:VCALENDAR