
BEGIN:VCALENDAR
VERSION:2.0
PRODID:-//wp-events-plugin.com//7.2.3.1//EN
BEGIN:VEVENT
UID:241@analdex.org
DTSTART:20230315T133000Z
DTEND:20230315T173000Z
DTSTAMP:20230303T184036Z
URL:https://analdex.org/events/seminario-precios-de-transferencia-una-herr
 amienta-gerencial-esencial/
SUMMARY:SEMINARIO PRECIOS DE TRANSFERENCIA\, UNA HERRAMIENTA GERENCIAL ESEN
 CIAL
DESCRIPTION:Los Precios de Transferencia pueden afectar su rentabilidad y p
 or lo mismo su declaración de renta. Este seminario fue diseñado como 
 una herramienta gerencia para que conozca sus obligaciones legales de pre
 sentación ante la DIAN\, pueda entender sus Informes Local y Maestro y a
 sí tomar decisiones de gran impacto en su negocio\n\nFecha: Miercoles 15
  de Marzo\nHora: ​8:30 a.m. - 12:30 p.m.\nModalidad: Virtual \nEjes tem
 áticos:​\n\n\n 	Importancia de los Precios de Transferencia en Colombia
  y el mundo​\n 	Reglas que regulan los precios de transferencia​\n 	Id
 entificación y análisis de operaciones entre empresas relacionadas​\n 
 	Uso de los diferentes métodos para calcular sus precios de transferenci
 a​\n 	Información que debe ser enviada a la DIAN: Que incluye la prese
 ntación de una Declaración Informativa\, un Informe Local (LF) y un Inf
 orme Maestro (MF)?​\n 	Estudios de casos prácticos para aplicar sus con
 ocimientos\n\nREGISTRESE AQUÍ
ATTACH;FMTTYPE=image/jpeg:https://analdex.org/wp-content/uploads/2023/03/B
 anner-pequeno-Seminario-Precios-de-transferencia.png
CATEGORIES:virtual
END:VEVENT
END:VCALENDAR