
BEGIN:VCALENDAR
VERSION:2.0
PRODID:-//wp-events-plugin.com//7.2.3.1//EN
BEGIN:VEVENT
UID:243@analdex.org
DTSTART:20230418T140000Z
DTEND:20230419T170000Z
DTSTAMP:20230330T214251Z
URL:https://analdex.org/events/seminario-nomenclatura-arancelaria-y-normas
 -de-origen-fundamentos-impactos-y-riesgos-en-la-operacion-aduanera/
SUMMARY:SEMINARIO NOMENCLATURA ARANCELARIA Y NORMAS DE ORIGEN: FUNDAMENTOS\
 , IMPACTOS Y RIESGOS EN LA OPERACIÓN ADUANERA
DESCRIPTION:SEMINARIO VIRTUAL NOMENCLATURA ARANCELARIA Y NORMAS DE ORIGEN: 
 FUNDAMENTOS\, IMPACTOS Y RIESGOS EN LA OPERACIÓN ADUANERA\n\nHora: 9:00 a
 .m. a 12:00 p.m.\n18 y 19 de abril vía zoom\nTEMAS DEL SEMINARIO\n\nNOMEN
 CLATURA ARANCELARIA:\n\n 	De Norma Supranacional a NormaNacional\n 	Estruc
 tura Progresiva de la Nomenclatura\n 	Incidencia en la Operación Aduanera
  de la Clasificación Arancelaria\n 	Principios Básicos para una Correcta
  Clasificación Arancelaria\n 	Riesgos y Consecuencias Sancionatorias\n 	C
 lasificaciones Oficiales\n\nNORMAS DE ORIGEN:\n\n 	ORIGEN PREFERENCIAL EN 
 LA EXPORTACIÓN\n\n\n 	Determinación y Criterios de Origen\n 	Principios 
 Fundamentales en Origen\n 	Declaración Juramentada de Origen\n 	Responsab
 ilidad y Riesgos para los exportadores\, en materia de origen\n\n\n 	ORIGE
 N PREFERENCIAL EN LA IMPORTACION\n\n\n 	Acceso al mercado con beneficio ar
 ancelario\n 	Prueba documental del origen\n 	Control y Verificación de Or
 igen en la Importación\n 	Principios fundamentales en el control del orig
 en\n 	Responsabilidad y Riesgos para los importadores\, en materia de orig
 en\n\n\n 	ORIGEN NO PREFERENCIAL\n\n\n 	Objetivo de la Norma de Origen No 
 Preferencial\n 	Responsabilidad de Importadores con relación al Origen No
  Preferencial\n 	Sanciones en materia de Origen No Preferencial\n\nREGÍST
 RESE AQUÍ\n\nMAYORES INFORMES:\nexpoeventos@analdex.org\nPBX (601) 794212
 2 Ext. 144\n\n&nbsp\;
ATTACH;FMTTYPE=image/jpeg:https://analdex.org/wp-content/uploads/2023/03/B
 anner_proximos-eventos.png
CATEGORIES:Bogotá,virtual
END:VEVENT
END:VCALENDAR