
BEGIN:VCALENDAR
VERSION:2.0
PRODID:-//wp-events-plugin.com//7.2.3.1//EN
BEGIN:VEVENT
UID:231@analdex.org
DTSTART:20221025T140000Z
DTEND:20221026T170000Z
DTSTAMP:20221006T163732Z
URL:https://analdex.org/events/seminario-aduanero/
SUMMARY:Seminario aduanero
DESCRIPTION:Seminario: Los 10 conceptos mas controvertidos de la DIAN en ma
 teria de comercio exterior y aduanas\nFecha: 25 y 26 de octubre de 2022\nH
 ora: 9:00 am – 12:00 p.m.\nVía: Zoom\n\nDiego Rengifo\nVicepresidente t
 écnico - Analdex\n\nSilvia Paula González\nSocia - González Anzola Abog
 ados\n\nNicolás Potdevin Stein\nSocio -  Gómez Pinzón Abogados\n\nSand
 ra Mora\nConsultora - Pardo &amp\; Asociados Estrategias Tributarias\n\nJu
 an Diego Cano\nDirector de asuntos legales - Analdex\n\nEJES TEMÁTICOS\n\
 n 	¿Qué ha sucedido con los documentos digitalizados después de la emer
 gencia sanitaria?\n 	¿Se pueden realizar operaciones entre zonas francas 
 y sociedades de comercialización internacional?\n 	¿Procede una aprehens
 ión sobre mercancía nacional? ¿Se podría legalizar?\n 	¿Qué ocurre s
 i un UATS incumple con el pago consolidado y no hay sanción en la norma?\
 n 	¿Podría el gobierno desarrollar el régimen sancionatorio aduanero y 
 de decomiso de mercancías bajo facultades extraordinarias?\n 	Según la d
 octrina ¿Cuáles son los términos para presentar la declaración de impo
 rtación anticipada?\n\nTarifa de inscripción\nAfiliados: 170.000 + IVA\n
 No afiliados: 220.000 + IVA\n\nMayores informes\nexpoeventos@analdex.org\n
 (601) 7942122 ext 144\nINSCRÍBASE AQUÍ
ATTACH;FMTTYPE=image/jpeg:https://analdex.org/wp-content/uploads/2022/10/B
 anner-proximo-evento-1.png
CATEGORIES:virtual
END:VEVENT
END:VCALENDAR