
BEGIN:VCALENDAR
VERSION:2.0
PRODID:-//wp-events-plugin.com//7.2.3.1//EN
BEGIN:VEVENT
UID:225@analdex.org
DTSTART:20220817T083000Z
DTEND:20220817T113000Z
DTSTAMP:20220722T213742Z
URL:https://analdex.org/events/ruta-comercio-exterior-eje-cafetero-pereira
 /
SUMMARY:RUTA COMERCIO EXTERIOR - EJE CAFETERO - PEREIRA
DESCRIPTION:Ruta Comercio Exterior - Pereira\n\nAgosto 17 - Centro de Conve
 nciones Expofuturo - Salón Santuario\n\n8:30 a.m. - 11:30 a.m.\n\nEjes te
 máticos:\n\n 	Implicaciones y oportunidades para el comercio exterior fre
 nte a la coyuntura y al nuevo gobierno en Colombia.\n 	Retos para mejorar 
 la eficiencia de la institucionalidad en materia de comercio internacional
 : ¿Qué debería hacer cada una de las entidades y ¿Qué reformas hacer 
 y cuáles no?\n 	Amenazas y oportunidades en las exportaciones de café ve
 rde en el contexto nacional e internacional.\n\nConferencistas:\n\n 	Javie
 r Díaz Molina - Presidente Ejecutivo Analdex\n 	Jorge Iván Ramírez Cada
 vid - Presidente Ejecutivo Cámara de Comercio Pereira\n 	Diego Rengifo - 
 Vicepresidente Técnico Analdex\n 	Gustavo Gómez - Director Ejecutivo Aso
 export\n\nINSCÍBASE AQUÍ \n\nAGENDA ACADÉMICA \n\nMayores informes:\n
 \n 	Jesús Saldarriaga - jsaldarriaga@analdex.org\n
ATTACH;FMTTYPE=image/jpeg:https://analdex.org/wp-content/uploads/2022/07/B
 anner-proximo-evento-parada_02-1.jpg
CATEGORIES:Destacado
END:VEVENT
END:VCALENDAR