
BEGIN:VCALENDAR
VERSION:2.0
PRODID:-//wp-events-plugin.com//7.2.3.1//EN
BEGIN:VEVENT
UID:238@analdex.org
DTSTART:20230328T130000Z
DTEND:20230329T220000Z
DTSTAMP:20230215T165512Z
URL:https://analdex.org/events/foro-nacional-de-importadores-bogota-medell
 in/
SUMMARY:FORO NACIONAL DE IMPORTADORES      BOGOTÁ - MEDELLÍN
DESCRIPTION:Evento que reúne a más de 250 empresarios de alto nivel\, imp
 ortadores y exportadores junto a grandes representantes de la cadena del c
 omercio exterior.\n\nDentro de esta reunión anual\, encontrará:\n- Espac
 ios de networking\n- Leeds de calidad\n- Cierre de negocios\n\nAgéndese p
 ara el 28 de marzo en el Hotel Sheraton en la ciudad de Bogotá y para el 
 29 de marzo en el Country Club de Ejecutivos en la ciudad de Medellín.\n\
 nEJES TEMÁTICOS:\n- Herramientas digitales para el comercio exterior\n- L
 as amplias facultades aduaneras y la razonabilidad de las medidas de contr
 ol\n- Economía circular\, tendencias y compromisos\n- Entre la debida dil
 igencia y el mandato aduanero\n- Talento humano y aduanas\, una visión de
 sde la teoría práctica\n- Agenda OEA 2023\n\nVincúlese comercialmente a
 quí.\n\nInscripciones:\nPara asistir al evento en Bogotá aquí.\nPara as
 istir al evento en Medellín aquí.\n\nMAYORES INFORMES:\nComercial: dmarq
 uez@analdex.org\nInscripciones Bogotá: expoeventos@analdex.org\nInscripci
 ones Medellín: analdexantioquia@analdex.org
CATEGORIES:Bogotá,Medellin
END:VEVENT
END:VCALENDAR