
BEGIN:VCALENDAR
VERSION:2.0
PRODID:-//wp-events-plugin.com//7.2.3.1//EN
BEGIN:VEVENT
UID:220@analdex.org
DTSTART:20230809T083000Z
DTEND:20230810T170000Z
DTSTAMP:20230614T161402Z
URL:https://analdex.org/events/exlog-exhibicion-y-cumbre-logistica/
SUMMARY:EXLOG - EXHIBICIÓN Y CUMBRE LOGÍSTICA - CONGRESO INTERNACIONAL DE
  LOGÍSTICA AGOSTO 2023
DESCRIPTION:EXLOG- Exhibición y Cumbre Logística - Congreso Internacional
  de Logística\n\nHotel Sheraton\, Bogotá - 9 y 10 de agosto de 2023\n\n
 ¿Por qué participar?\n\n 	Reencuentro empresarial con los líderes del s
 ector.\n 	Generación de nuevas oportunidades de negocio.\n 	Relación y f
 idelización con clientes.\n 	Potenciar la imagen y visibilidad de su empr
 esa.\n 	Consecución de nuevos contactos.\n 	Escenario propicio para activ
 ación de marca.\n 	Dos días de experiencia e intercambio de conocimiento
 .\n\nINVITACIÓN VIP\nRecorrido muestra comercial\n(Invitación sin costo)
 \n9 y 10 de agosto\n\nCONGRESO INTERNACIONAL DE LOGÍSTICA\n9 de agosto - 
 Evento con costo\n\nCONOZCA NUESTRA OFERTA COMERCIAL\n\nMAYORES INFORMES:\
 n\nInscripciones: expoeventos@analdex.org - (601) 7942122 ext 144\n\nVincu
 lación Comercial:\n\nEsperanza Giraldo - egiraldo@analdex.org - (601) 794
 2122 ext 148 - 310 298 4743\n\nMaría Clemencia Posada - comercialeventos@
 analdex.org - (601) 794 2122 Ext. 132 - 312 4888090
ATTACH;FMTTYPE=image/jpeg:https://analdex.org/wp-content/uploads/2022/06/B
 anner_proximos-eventos-16.png
CATEGORIES:Bogotá
END:VEVENT
END:VCALENDAR