
BEGIN:VCALENDAR
VERSION:2.0
PRODID:-//wp-events-plugin.com//7.2.3.1//EN
BEGIN:VEVENT
UID:240@analdex.org
DTSTART:20230309T140000Z
DTEND:20230309T150000Z
DTSTAMP:20230303T171804Z
URL:https://analdex.org/events/comite-huella-de-carbono-en-las-empresas-co
 lombiana-como-lograr-la-carbono-neutralidad/
SUMMARY:COMITE HUELLA DE CARBONO EN LAS EMPRESAS COLOMBIANA: ¿COMO LOGRAR 
 LA CARBONO NEUTRALIDAD?
DESCRIPTION:En este comité contaremos con apoyo de VERSA empresa que se en
 carga de certificaciones de sostenibilidad.\n\nFecha: Jueves 9 de marzo\nH
 ora: 9:00 a.m. - 10:00 a.m.\nModalidad: HIBRIDO - Presencial (Analdex) - V
 irtual (Zoom)\n\nEl eje temático de este comité tendrá como puntos clav
 es:\n\n 	¿Qué es la huella de carbono y cómo medirla?\n 	 ¿Cómo est
 á Colombia con metas de carbono\nneutralidad?\n 	¿Cómo ser carbono neut
 ro?\n\nREGISTRESE AQUÍ
CATEGORIES:Bogotá,virtual
END:VEVENT
END:VCALENDAR