
BEGIN:VCALENDAR
VERSION:2.0
PRODID:-//wp-events-plugin.com//7.2.3.1//EN
BEGIN:VEVENT
UID:239@analdex.org
DTSTART:20230308T140000Z
DTEND:20230308T153000Z
DTSTAMP:20230303T143612Z
URL:https://analdex.org/events/comite-de-comercio-exterior-relaciones-con-
 venezuela/
SUMMARY:COMITE DE COMERCIO EXTERIOR: RELACIONES CON VENEZUELA
DESCRIPTION:Comité dirigido a los afiliados de Analdex para conversar con 
 el experto Germán Camilo Prieto\, director de Integración Económica del
  Ministerio de Comercio\, Industria y Turismo.\n\nFecha: Miércoles 8 de m
 arzo\nHora: 9:00 a.m. a 10:30 a.m.\nModalidad: Híbrido (instalaciones de 
 Analdex y zoom)\n\nEjes temáticos:\nNueva integración económica con Ven
 ezuela\nNovedades Acuerdo Comercial entre Colombia y Venezuela\nLíneas de
  trabajo para retomar las relaciones entre los dos países\, política y p
 roductiva\nREGÍSTRESE AQUÍ\n\n&nbsp\;\n\n&nbsp\;
ATTACH;FMTTYPE=image/jpeg:https://analdex.org/wp-content/uploads/2023/03/b
 anner-pequeno-Boletin-de-comercio-exterior-1.png
CATEGORIES:Bogotá,virtual
END:VEVENT
END:VCALENDAR