
BEGIN:VCALENDAR
VERSION:2.0
PRODID:-//wp-events-plugin.com//7.2.3.1//EN
BEGIN:VEVENT
UID:229@analdex.org
DTSTART:20221013T140000Z
DTEND:20221013T153000Z
DTSTAMP:20221006T132040Z
URL:https://analdex.org/events/comite-de-alimentos-2/
SUMMARY:Comite de alimentos
DESCRIPTION:\nComité de alimentos \nElisa María Cadena Gaona\nSubdirecto
 ra de Salud Nutricional\, Alimentos y Bebida - Ministerio de Salud y Prote
 cción Social\n\nTema: Borrador de la resolución que modifica la Resoluci
 ón 810 de 2021 del MinSalud\, que establece el reglamento técnico sobre 
 los requisitos de etiquetado nutricional y frontal que deben cumplir los a
 limentos envasados o empacados para consumo humano\n\n 	Modificaciones que
  incluye el borrador\n 	Estado actual de la modificación\n 	Tiempos de im
 plementación\n\nFecha: 13 de octubre\n\nHora: 9:00 am – 10:30 am\n\nVí
 a: Zoom\n\nINSCRÍBASE AQUÍ
ATTACH;FMTTYPE=image/jpeg:https://analdex.org/wp-content/uploads/2022/10/B
 anner-pequeno_Comite_de_alimentos-4-de-octubre-2022-1.jpg
CATEGORIES:Bogotá,virtual
END:VEVENT
END:VCALENDAR