
BEGIN:VCALENDAR
VERSION:2.0
PRODID:-//wp-events-plugin.com//7.2.3.1//EN
BEGIN:VEVENT
UID:307@analdex.org
DTSTART;TZID=America/Bogota:20250213T150000
DTEND;TZID=America/Bogota:20250213T163000
DTSTAMP:20250211T163234Z
URL:https://analdex.org/events/comex-talks-un-nuevo-escenario-geopolitico/
SUMMARY:COMEX TALKS: UN NUEVO ESCENARIO GEOPOLITICO
DESCRIPTION:Comex Talks\, diálogo con expertos\, es una iniciativa de la A
 sociación para conversar sobre temas coyunturales y de interés para el s
 ector del comercio exterior y la logística.\n\nEl segundo Comex Talks de 
 este año 2025\, Un nuevo escenario geopolítico\, se realizará el jueves
  13 de febrero en el horario de 3:00 p.m. a 4:30 p.m. por Zoom.\n\nEjes t
 emáticos:\n- Uso de aranceles por razones de seguridad nacional. \n- Ma
 rco jurídico del IEEPA y su alcance en la política comercial de EE.UU.\n
 - Facultades del presidente de EE.UU. para imponer restricciones comercial
 es y financieras.\n- Oportunidades o riesgos para el comercio exterior col
 ombiano.  \n\nConferencistas:\nJavier Díaz Molina - Presidente ejecutiv
 o Analdex\nMario A. Torrico - Associate Arentfox Schiff\nLuz Eugenia Corre
 a - Socia directora CID-Pro Consulting \nOlga Lucía Lozano - Experta con
 sultora en mercados internacionales \n\nINSCRÍBASE SIN COSTO AQUÍ\n\nIn
 formes: kcely@analdex.org\n\n&nbsp\;
ATTACH;FMTTYPE=image/jpeg:https://analdex.org/wp-content/uploads/2025/02/s
 eccion-eventos-ESCENARIOS-GEOPOLITICOS.png
CATEGORIES:virtual
END:VEVENT
BEGIN:VTIMEZONE
TZID:America/Bogota
X-LIC-LOCATION:America/Bogota
BEGIN:STANDARD
DTSTART:20240214T150000
TZOFFSETFROM:-0500
TZOFFSETTO:-0500
TZNAME:-05
END:STANDARD
END:VTIMEZONE
END:VCALENDAR